BEGIN:VCALENDAR
VERSION:2.0
PRODID:-//wp-events-plugin.com//6.4.6.4//EN
TZID:Europe/London
X-WR-TIMEZONE:Europe/London
BEGIN:VEVENT
UID:9@boogaloopromotions.com
DTSTART;TZID=Europe/London:20231219T200000
DTEND;TZID=Europe/London:20231219T223000
DTSTAMP:20231129T224326Z
URL:https://www.boogaloopromotions.com/events/aynsley-lister-band/
SUMMARY:Aynsley Lister Band
DESCRIPTION:Aynsley Lister is an incredible guitarist whose brand of blues-
 based rock delivers contemporary song writing fuelled with the kind of hea
 rt and soul that’s missing from so much music. Whether passionately writ
 ing and recording his own material or mesmerising audiences at his live sh
 ows\, one thing is abundantly clear: music is hard-wired to his DNA.\nWith
  over 100\,000 albums sold\, lashings of critical acclaim and years of hig
 h-profile touring\,\nAynsley’s resumé speaks for itself and firmly secu
 res his position as a leading light in the resurgence of British\, blues-i
 nfused music.\n\nSOLD OUT - SECOND SHOW ADDED AT THE EARLIER TIME OF 5.30 
 PM\n\nPLEASE GET IN TOUCH IF YOU'D LIKE TO SWITCH TO THE EARLIER SHOW!  
  (ON OFFER AT THE LOWER PRICE OF £15!)
ATTACH;FMTTYPE=image/jpeg:https://www.boogaloopromotions.com/site/wp-conte
 nt/uploads/2022/12/Aynsley-Lister-500.jpg
LOCATION:The Cellar Bar\, Farnham Maltings\, Farnham\, Surrey\, GU9 7QR\, U
 nited Kingdom
X-APPLE-STRUCTURED-LOCATION;VALUE=URI;X-ADDRESS=Farnham Maltings\, Farnham\
 , Surrey\, GU9 7QR\, United Kingdom;X-APPLE-RADIUS=100;X-TITLE=The Cellar 
 Bar:geo:0,0
END:VEVENT
BEGIN:VTIMEZONE
TZID:Europe/London
X-LIC-LOCATION:Europe/London
BEGIN:STANDARD
DTSTART:20231029T010000
TZOFFSETFROM:+0100
TZOFFSETTO:+0000
TZNAME:GMT
END:STANDARD
END:VTIMEZONE
END:VCALENDAR