BEGIN:VCALENDAR
VERSION:2.0
PRODID:-//wp-events-plugin.com//6.4.6.4//EN
TZID:Europe/London
X-WR-TIMEZONE:Europe/London
BEGIN:VEVENT
UID:92@boogaloopromotions.com
DTSTART;TZID=Europe/London:20260320T201500
DTEND;TZID=Europe/London:20260320T224500
DTSTAMP:20250717T182754Z
URL:https://www.boogaloopromotions.com/events/burning-rope/
SUMMARY:Burning Rope
DESCRIPTION:Burning Rope is a new band formed with members of Catfish\, fol
 lowing the tragic loss of their frontman guitarist\, and singer Matt Long 
 to cancer in October 2024.  The remaining members of the band wanted to c
 ontinue to play and write together\, so have come together as Burning Rope
 \,  joined by sensational guitarist Alex Voysey and drummer Mitch Weaving
 .\n\nDoors open 8.15 pm for an 8.45 pm start.  The gig finishes c. 10.45 
 pm.\n\nReserve Tickets    
ATTACH;FMTTYPE=image/jpeg:https://www.boogaloopromotions.com/site/wp-conte
 nt/uploads/2025/07/Burning-Rope.jpg
CATEGORIES:Blues Gigs
LOCATION:Crookham Memorial Hall\, Sandy Lane\, Church Crookham\, Fleet\, GU
 52 8LD\, United Kingdom
X-APPLE-STRUCTURED-LOCATION;VALUE=URI;X-ADDRESS=Sandy Lane\, Church Crookha
 m\, Fleet\, GU52 8LD\, United Kingdom;X-APPLE-RADIUS=100;X-TITLE=Crookham 
 Memorial Hall:geo:0,0
END:VEVENT
BEGIN:VTIMEZONE
TZID:Europe/London
X-LIC-LOCATION:Europe/London
BEGIN:STANDARD
DTSTART:20251026T010000
TZOFFSETFROM:+0100
TZOFFSETTO:+0000
TZNAME:GMT
END:STANDARD
END:VTIMEZONE
END:VCALENDAR